BEGIN:VCALENDAR
VERSION:2.0
PRODID:-//ChamberMaster//Event Calendar 2.0//EN
METHOD:PUBLISH
X-PUBLISHED-TTL:P3D
REFRESH-INTERVAL:P3D
CALSCALE:GREGORIAN
BEGIN:VEVENT
DTSTART;VALUE=DATE:20221004
DTEND;VALUE=DATE:20221006
TRANSP:TRANSPARENT
X-MICROSOFT-CDO-ALLDAYEVENT:TRUE
SUMMARY:First Aid Responder(FAR) Refresher-2 day-Limerick- 4th & 5th Oct
DESCRIPTION:2 day First Aid Refresher Course
X-ALT-DESC;FMTTYPE=text/html:<div>2 day First Aid Refresher Course</div>\n
LOCATION:Kilmurray Lodge Hotel. Castletroy\, Limerick
UID:e.3269.808
SEQUENCE:3
DTSTAMP:20260422T090517Z
URL:http://members.limerickchamber.ie/events/details/first-aid-responder-far-refresher-2-day-limerick-4th-5th-oct-808
END:VEVENT

END:VCALENDAR
