BEGIN:VCALENDAR
VERSION:2.0
PRODID:-//ChamberMaster//Event Calendar 2.0//EN
METHOD:PUBLISH
X-PUBLISHED-TTL:P3D
REFRESH-INTERVAL:P3D
CALSCALE:GREGORIAN
BEGIN:VEVENT
DTSTART;VALUE=DATE:20200115
DTEND;VALUE=DATE:20200116
TRANSP:TRANSPARENT
X-MICROSOFT-CDO-ALLDAYEVENT:TRUE
SUMMARY:Personal Effectiveness/ Time Management
DESCRIPTION:This workshop is aimed at individuals who wish to:\n\n  Optimise work efficiency and wellbeing\n\n  Understand personal barriers to the management of time\n\n  Successfully achieve personal and company goals\n\n  Negotiate a better work-life balance
X-ALT-DESC;FMTTYPE=text/html:<p style="color: rgb(51\, 51\, 51)\; font-family: Helvetica\,Arial\,sans-serif\; font-size: 16px\; font-style: normal\; font-variant: normal\; font-weight: normal\; letter-spacing: normal\; orphans: 2\; text-align: left\; text-decoration: none\; text-indent: 0px\; text-transform: none\; -webkit-text-stroke-width: 0px\; white-space: normal\; word-spacing: 0px\;">&nbsp\;</p>\n\n<p style="color: rgb(51\, 51\, 51)\; font-family: Helvetica\,Arial\,sans-serif\; font-size: 16px\; font-style: normal\; font-variant: normal\; font-weight: normal\; letter-spacing: normal\; orphans: 2\; text-align: left\; text-decoration: none\; text-indent: 0px\; text-transform: none\; -webkit-text-stroke-width: 0px\; white-space: normal\; word-spacing: 0px\;"><strong style="font-weight: bold\;">This workshop</strong> is aimed at individuals who wish to:</p>\n\n<p style="color: rgb(51\, 51\, 51)\; font-family: Helvetica\,Arial\,sans-serif\; font-size: 16px\; font-style: normal\; font-variant: normal\; font-weight: normal\; letter-spacing: normal\; orphans: 2\; text-align: left\; text-decoration: none\; text-indent: 0px\; text-transform: none\; -webkit-text-stroke-width: 0px\; white-space: normal\; word-spacing: 0px\;">&bull\; Optimise work efficiency and wellbeing<br />\n&bull\; Understand personal barriers to the management of time<br />\n&bull\; Successfully achieve personal and company goals<br />\n&bull\; Negotiate a better work-life balance</p>\n
LOCATION:Venue: Limerick Chamber\, 96 O'Connell Street\, Limerick
UID:e.3269.402
SEQUENCE:3
DTSTAMP:20260422T103230Z
URL:http://members.limerickchamber.ie/events/details/personal-effectiveness-time-management-402
END:VEVENT

END:VCALENDAR
