BEGIN:VCALENDAR
VERSION:2.0
PRODID:-//ChamberMaster//Event Calendar 2.0//EN
METHOD:PUBLISH
X-PUBLISHED-TTL:P3D
REFRESH-INTERVAL:P3D
CALSCALE:GREGORIAN
BEGIN:VEVENT
DTSTART;VALUE=DATE:20191119
DTEND;VALUE=DATE:20191120
TRANSP:TRANSPARENT
X-MICROSOFT-CDO-ALLDAYEVENT:TRUE
SUMMARY:Manual Handling Instructor Course
DESCRIPTION:Programme Description: All Manual Handling Instructors must be qualified to QQI Level 6 to deliver courses in Ireland. This course covers the legislation\, Anatomy\, Ergonomics\, Risk Assessment\, and Skills for Trainers. This Manual Handling Instructor course will equip the participants with the skills to develop and competently deliver their own manual handling training course and will gain a QQI Level 6 Award.\n\n \n\nCourse Content:   \n\nDay 1: Legislation Requirements\, Health Benefits and Introduction to Risk Management.\n\nDay 2: Anatomy\, Back Care\, Manual Handling Principles and Technique.\n\nDay 3: Ergonomic Principles and Risk Assessment.  \n\nDay 4: Planning and Design of Manual Handling Training Programmes.\n\nDay 5: Assessment in Presentation\, Theory & Practice
X-ALT-DESC;FMTTYPE=text/html:Programme Description: All Manual Handling Instructors must be qualified to QQI Level 6 to deliver courses in Ireland. This course covers the legislation\, Anatomy\, Ergonomics\, Risk Assessment\, and Skills for Trainers. This Manual Handling Instructor course will equip the participants with the skills to develop and competently deliver their own manual handling training course and will gain a QQI Level 6 Award.<br />\n&nbsp\;<br />\nCourse Content: &nbsp\;&nbsp\;<br />\nDay 1: Legislation Requirements\, Health Benefits and Introduction to Risk Management.<br />\nDay 2: Anatomy\, Back Care\, Manual Handling Principles and Technique.<br />\nDay 3: Ergonomic Principles and Risk Assessment. &nbsp\;<br />\nDay 4: Planning and Design of Manual Handling Training Programmes.<br />\nDay 5: Assessment in Presentation\, Theory &amp\; Practice
LOCATION:Unit 1 Westgate Business Park\, Ennis\, Co Clare
UID:e.3269.383
SEQUENCE:3
DTSTAMP:20260422T043328Z
URL:https://members.limerickchamber.ie/events/details/manual-handling-instructor-course-383
END:VEVENT

END:VCALENDAR
